Workbook

Sheet PT_ESF_ECSF
A2: Sector: | E2: =#REF! -> #REF!
A3: Ente Público: | E3: =#REF! -> #REF!
A4: Fecha:
A5: Edo. Financiero | E5: EF
C6: Año | E6: 2013
A7: Activo | B7: Activo Circulante | C7: Efectivo y Equivalentes | E7: =#REF! -> #REF!
C8: Derechos a Recibir Efectivo o Equivalentes | E8: =#REF! -> #REF!
C9: Derechos a Recibir Bienes o Servicios | E9: =#REF! -> #REF!
C10: Inventarios | E10: =#REF! -> #REF!
C11: Almacenes | E11: =#REF! -> #REF!
C12: Estimación por Pérdida o Deterioro de Activos Circulantes | E12: =#REF! -> #REF!
C13: Otros Activos Circulantes | E13: =#REF! -> #REF!
C14: Total de Activos Circulantes | E14: =#REF! -> #REF!
B15: Activo No Circulante | C15: Inversiones Financieras a Largo Plazo | E15: =#REF! -> #REF!
C16: Derechos a Recibir Efectivo o Equivalentes a Largo Plazo | E16: =#REF! -> #REF!
C17: Bienes Inmuebles, Infraestructura y Construcciones en Proceso | E17: =#REF! -> #REF!
C18: Bienes Muebles | E18: =#REF! -> #REF!
C19: Activos Intangibles | E19: =#REF! -> #REF!
C20: Depreciación, Deterioro y Amortización Acumulada de Bienes | E20: =#REF! -> #REF!
C21: Activos Diferidos | E21: =#REF! -> #REF!
C22: Estimación por Pérdida o Deterioro de Activos no Circulantes | E22: =#REF! -> #REF!
C23: Otros Activos no Circulantes | E23: =#REF! -> #REF!
C24: Total de Activos No Circulantes | E24: =#REF! -> #REF!
C25: TOTAL DEL ACTIVO | E25: =#REF! -> #REF!
A26: Pasivo | B26: Pasivo Circulante | C26: Cuentas por Pagar a Corto Plazo | E26: =#REF! -> #REF!
C27: Documentos por Pagar a Corto Plazo | E27: =#REF! -> #REF!
C28: Porción a Corto Plazo de la Deuda Pública a Largo Plazo | E28: =#REF! -> #REF!
C29: Títulos y Valores a Corto Plazo | E29: =#REF! -> #REF!
C30: Pasivos Diferidos a Corto Plazo | E30: =#REF! -> #REF!
C31: Fondos y Bienes de Terceros en Garantía y/o Administración a Corto Plazo | E31: =#REF! -> #REF!
C32: Provisiones a Corto Plazo | E32: =#REF! -> #REF!
C33: Otros Pasivos a Corto Plazo | E33: =#REF! -> #REF!
C34: Total de Pasivos Circulantes | E34: =#REF! -> #REF!
B35: Pasivo No Circulante | C35: Cuentas por Pagar a Largo Plazo | E35: =#REF! -> #REF!
C36: Documentos por Pagar a Largo Plazo | E36: =#REF! -> #REF!
C37: Deuda Pública a Largo Plazo | E37: =#REF! -> #REF!
C38: Pasivos Diferidos a Largo Plazo | E38: =#REF! -> #REF!
C39: Fondos y Bienes de Terceros en Garantía y/o en Administración a Largo Plazo | E39: =#REF! -> #REF!
C40: Provisiones a Largo Plazo | E40: =#REF! -> #REF!
C41: Total de Pasivos No Circulantes | E41: =#REF! -> #REF!
...

Sheet CTG
B1: ESTADO ANALÍTICO DEL EJERCICIO DEL PRESUPUESTO DE EGRESOS
B2: CLASIFICACIÓN ECONÓMICA (POR TIPO DE GASTO)
B3: =COG!B3 -> Del 1 de Enero al 31 de Diciembre 2018
C5: Ente Público: | D5: NOMBRE DE LA ENTIDAD
B7: Concepto | D7: Egresos | K7: Subejercicio
D8: Aprobado | E8: Ampliaciones/ (Reducciones) | F8: Modificado | G8: Comprometido | H8: Devengado | I8: Ejercido | J8: Pagado
D9: 1 | E9: 2 | F9: 3 = (1 + 2 ) | G9: 4 | H9: 5 | I9: 6 | J9: 7 | K9: 6 = ( 3 - 5 )
C11: Gasto Corriente | D11: 20563686 | E11: 16386934 | F11: =+D11+E11 -> 36950620 | G11: 36423838 | H11: 36423838 | I11: 36423838 | J11: 35524593 | K11: =+F11-H11 -> 526782.55
F12: =+D12+E12 -> 0 | K12: =+F12-H12 -> 0
C13: Gasto de Capital | D13: 327830 | E13: 3911133.1 | F13: =+D13+E13 -> 4238963.1 | G13: 2016167.2 | H13: 2016167.2 | I13: 2016167.2 | J13: 1957417.2 | K13: =+F13-H13 -> 2222795.8
C15: Amortización de la Deuda y Disminución de Pasivos | F15: =+D15+E15 -> 0 | K15: =+F15-H15 -> 0
C17: Total del Gasto | D17: =+D11+D13+D15 -> 20891516 | E17: =+E11+E13+E15 -> 20298067 | F17: =+F11+F13+F15 -> 41189583 | G17: =+G11+G13+G15 -> 38440005 | H17: =+H11+H13+H15 -> 38440005 | I17: =+I11+I13+I15 -> 38440005 | J17: =+J11+J13+J15 -> 37482010 | K17: =+K11+K13+K15 -> 2749578.4
C19: Bajo protesta de decir verdad declaramos que los Estados Financieros y sus Notas son razonablemente correctos y responsabilidad del emisor
D20: =IF(D17=CAdmon!D22," ","ERROR") | E20: =IF(E17=CAdmon!E22," ","ERROR") | F20: =IF(F17=CAdmon!F22," ","ERROR") | H20: =IF(H17=CAdmon!H22," ","ERROR") | J20: =IF(J17=CAdmon!J22," ","ERROR") | K20: =IF(K17=CAdmon!K22," ","ERROR")
C22: Nombre de quien autoriza | F22: Nombre de quien elabora
C23: Cargo de quien autoriza | F23: Cargo de quien elabora

Sheet EAI
B1: ESTADO ANALÍTICO DE INGRESOS
B2: POR FUENTE DE FINANCIAMIENTO Y FUENTE DE FINANCIAMIENTO/RUBRO
B3: =CAdmon!B4 -> Del 1 de Enero al 31 de Diciembre 2018
D5: Ente Público: | E5: =CAdmon!D6 -> ITESS
B7: Rubro de Ingresos | E7: Ingreso | J7: Diferencia
E8: Estimado | F8: Ampliaciones y Reducciones | G8: Modificado | H8: Devengado | I8: Recaudado
E9: (1) | F9: (2) | G9: (3= 1 + 2) | H9: (4) | I9: (5) | J9: (6 = 5 - 1 )
B11: Impuestos | E11: 0 | F11: 0 | G11: =+E11+F11 -> 0 | H11: 0 | I11: 0 | J11: =+I11-E11 -> 0
B12: Cuotas y Aportaciones de Seguridad Social | E12: 0 | F12: 0 | G12: =+E12+F12 -> 0 | H12: 0 | I12: 0 | J12: =+I12-E12 -> 0
B13: Contribuciones de Mejoras | E13: 0 | F13: 0 | G13: =+E13+F13 -> 0 | H13: 0 | I13: 0 | J13: =+I13-E13 -> 0
B14: Derechos | F14: 0 | G14: =+E14+F14 -> 0 | J14: =+I14-E14 -> 0
B15: Productos | E15: 364830 | F15: 7073.2 | G15: =+E15+F15 -> 371903.2 | H15: 232577 | I15: 232577 | J15: =+I15-E15 -> -132253
C16: Corriente | G16: =+E16+F16 -> 0 | J16: =+I16-E16 -> 0
C17: Capital | G17: =+E17+F17 -> 0 | J17: =+I17-E17 -> 0
B18: Aprovechamientos | E18: 3000 | F18: 4639755.4 | G18: =+E18+F18 -> 4642755.4 | H18: 1794437 | I18: 1794437 | J18: =+I18-E18 -> 1791437
C19: Corriente | G19: =+E19+F19 -> 0 | J19: =+I19-E19 -> 0
C20: Capital | G20: =+E20+F20 -> 0 | J20: =+I20-E20 -> 0
C21: No Comprendidos en las fracciones de la Ley de Ingresos causadas en | G21: =+E21+F21 -> 0 | J21: =+I21-E21 -> 0
C22: ejercicios fiscales anteriores pendiente de liquidación o pago | G22: =+E22+F22 -> 0 | J22: =+I22-E22 -> 0
B23: Ingresos por Ventas de Bienes y Servicios | E23: 10000 | F23: 0 | G23: =+E23+F23 -> 10000 | H23: 8711.5 | I23: 8711.5 | J23: =+I23-E23 -> -1288.5
B24: Participaciones y Aportaciones | E24: 0 | F24: 17039911 | G24: =+E24+F24 -> 17039911 | H24: 17039911 | I24: 17039911 | J24: =+I24-E24 -> 17039911
B25: Transferencias, Asignaciones, Subsidios y Otras Ayudas | E25: 20513686 | F25: -1388672.3 | G25: =+E25+F25 -> 19125014 | H25: 19125014 | I25: 19115899 | J25: =+I25-E25 -> -1397787.3
B26: Ingresos Derivados de Financiamientos
D28: Total | E28: =SUM(E11+E12+E13+E14+E15+E18+E23+E24+E25+E26) -> 20891516 | F28: =SUM(F11+F12+F13+F14+F15+F18+F23+F24+F25+F26+F27) -> 20298067 | G28: =SUM(G11+G12+G13+G14+G15+G18+G23+G24+G25+G26) -> 41189583 | H28: =SUM(H11+H12+H13+H14+H15+H18+H23+H24+H25+H26) -> 38200650 | I28: =SUM(I11+I12+I13+I14+I15+I18+I23+I24+I25+I26) -> 38191535 | J28: =IF(I28>E28,I28-E28,0) -> 17300019
H29: Ingresos excedentes¹
B31: Estado Analítico de Ingresos Por Fuente de Financiamiento | E31: Ingreso | J31: Diferencia
E32: Estimado | F32: Ampliaciones y Reducciones | G32: Modificado | H32: Devengado | I32: Recaudado
E33: (1) | F33: (2) | G33: (3= 1 + 2) | H33: (4) | I33: (5) | J33: (6 = 5 - 1 )
B35: INGRESOS PROPIOS
B36: PRODUCTOS | E36: 364830 | F36: 7073.2 | G36: =+E36+F36 -> 371903.2 | H36: 232577 | I36: 232577 | J36: =+I36-E36 -> -132253
B37: PRODUCTOS DE TIPO CORRIENTE | G37: =+E37+F37 -> 0 | J37: =+I37-E37 -> 0
B38: APROVECHAMIENTOS | E38: 3000 | F38: 984814.86 | G38: =+E38+F38 -> 987814.86 | H38: 135147.01 | I38: 135147.01 | J38: =+I38-E38 -> 132147.01
B39: APROVECHAMIENTOS TIPO CORRIENTE | G39: =+E39+F39 -> 0 | J39: =+I39-E39 -> 0
B40: APROVECHAMIENTOS NO COMPRENDIDOS EN | G40: =+E40+F40 -> 0 | J40: =+I40-E40 -> 0
B41: ING. POR VENTAS DE BIENES Y SERV | E41: 10000 | F41: 0 | G41: =+E41+F41 -> 10000 | H41: 8711.5 | I41: 8711.5 | J41: =+I41-E41 -> -1288.5
B42: ING. VTAS BIENES Y SERV. ORG.DESCENTR | G42: =+E42+F42 -> 0
G43: =+E43+F43 -> 0
B44: RECURSOS FEDERALES | E44: 0 | G44: =+E44+F44 -> 0 | J44: =+I44-E44 -> 0
B45: APROVECHAMIENTOS | E45: 0 | G45: =+E45+F45 -> 0 | J45: =+I45-E45 -> 0
B46: APROVECHAMIENTOS NO COMPRENDIDOS EN | E46: 0 | G46: =+E46+F46 -> 0 | J46: =+I46-E46 -> 0
...

Sheet COG
B1: ESTADO ANALÍTICO DEL EJERCICIO DEL PRESUPUESTO DE EGRESOS
B2: CLASIFICACIÓN POR OBJETO DEL GASTO (CAPÍTULO Y CONCEPTO)
B3: =CFG!B3 -> Del 1 de Enero al 31 de Diciembre 2018
C5: Ente Público: | D5: ITESS
B7: Concepto | D7: Egresos | K7: Subejercicio
D8: Aprobado | E8: Ampliaciones/ (Reducciones) | F8: Modificado | G8: Comprometido | H8: Devengado | I8: Ejercido | J8: Pagado
D9: 1 | E9: 2 | F9: 3 = (1 + 2 ) | G9: 4 | H9: 5 | I9: 6 | J9: 7 | K9: 6 = ( 3 - 5 )
B10: 1100 | C10: REMUNERACIONES AL PERSONAL DE CARÁCTER PERMANENTE | D10: 10508792 | E10: 7718747.3 | F10: =D10+E10 -> 18227539 | G10: 18222889 | H10: 18222889 | I10: 18222889 | J10: 18222889 | K10: =F10-H10 -> 4650
B11: 1200 | C11: REMUNERACIONES AL PERSONAL DE CARÁCTER TRANSITORIO | D11: 350000 | E11: 21726.64 | F11: =D11+E11 -> 371726.64 | G11: 371726.64 | H11: 371726.64 | I11: 371726.64 | J11: 371726.64 | K11: =F11-H11 -> 0
B12: 1300 | C12: REMUNERACIONES ADICIONALES Y ESPECIALES | D12: 1661511.6 | E12: 2136568.8 | F12: =D12+E12 -> 3798080.5 | G12: 3798080.5 | H12: 3798080.5 | I12: 3798080.5 | J12: 3798080.5 | K12: =F12-H12 -> 0
B13: 1400 | C13: SEGURIDAD SOCIAL | D13: 2381134.8 | E13: 1921259.9 | F13: =D13+E13 -> 4302394.7 | G13: 4297714.7 | H13: 4297714.7 | I13: 4297714.7 | J13: 3619027.3 | K13: =F13-H13 -> 4680
B14: 1500 | C14: OTRAS PRESTACIONES SOCIALES Y ECONÓMICAS | D14: 706578.93 | E14: 1370504.3 | F14: =D14+E14 -> 2077083.2 | G14: 1753798.5 | H14: 1753798.5 | I14: 1753798.5 | J14: 1753798.5 | K14: =F14-H14 -> 323284.75
B15: 1700 | C15: PAGO DE ESTÍMULOS A SERVIDORES PÚBLICOS | E15: 1113336 | F15: =D15+E15 -> 1113336 | G15: 1113336 | H15: 1113336 | I15: 1113336 | J15: 1113336 | K15: =F15-H15 -> 0
B16: 1000 | C16: SERVICIOS PERSONALES | D16: =SUM(D10:D15) -> 15608017 | E16: =SUM(E10:E15) -> 14282143 | F16: =SUM(F10:F15) -> 29890160 | G16: =SUM(G10:G15) -> 29557545 | H16: =SUM(H10:H15) -> 29557545 | I16: =SUM(I10:I15) -> 29557545 | J16: =SUM(J10:J15) -> 28878858 | K16: =F16-H16 -> 332614.75
B17: 2100 | C17: MATERIALES DE ADMINISTRACIÓN, EMISIÓN DE DOCUMENTO | D17: 138350 | E17: 363185.36 | F17: =D17+E17 -> 501535.36 | G17: 456140.51 | H17: 456140.51 | I17: 456140.51 | J17: 456140.51 | K17: =F17-H17 -> 45394.85
B18: 2200 | C18: ALIMENTOS Y UTENSILIOS | D18: 17000 | E18: 40366.33 | F18: =D18+E18 -> 57366.33 | G18: 52146.33 | H18: 52146.33 | I18: 52146.33 | J18: 52146.33 | K18: =F18-H18 -> 5220
B19: 2300 | C19: MATERIAS PRIMAS Y MATERIALES DE PRODUCCIÓN Y COMER | D19: 1500 | E19: 3827.4 | F19: =D19+E19 -> 5327.4 | G19: 1383.4 | H19: 1383.4 | I19: 1383.4 | J19: 1383.4 | K19: =F19-H19 -> 3944
B20: 2400 | C20: MATERIALES Y ARTÍCULOS DE CONSTRUCCIÓN Y REPARACIÓ | D20: 45000 | E20: 153093.77 | F20: =D20+E20 -> 198093.77 | G20: 191691.77 | H20: 191691.77 | I20: 191691.77 | J20: 191691.77 | K20: =F20-H20 -> 6402
B21: 2500 | C21: PRODUCTOS QUÍMICOS, FARMACEÚTICOS Y DE LABORATORIO | D21: 64500 | E21: 22909.49 | F21: =D21+E21 -> 87409.49 | G21: 71844.03 | H21: 71844.03 | I21: 71844.03 | J21: 71844.03 | K21: =F21-H21 -> 15565.46
B22: 2600 | C22: COMBUSTIBLES, LUBRICANTES Y ADITIVOS | D22: 105000 | E22: 168528.15 | F22: =D22+E22 -> 273528.15 | G22: 273528.15 | H22: 273528.15 | I22: 273528.15 | J22: 273528.15 | K22: =F22-H22 -> 0
B23: 2700 | C23: VESTURIO, BLANCOS Y PRENDAS E PROTECCIÓN Y ARTÍCUL | D23: 55000 | E23: 93790.23 | F23: =D23+E23 -> 148790.23 | G23: 130510.55 | H23: 130510.55 | I23: 130510.55 | J23: 130510.55 | K23: =F23-H23 -> 18279.68
B24: 2900 | C24: HERRAMIENTAS, REFACCIONES Y ACCESORIOS MENORES | D24: 56500 | E24: 217901.69 | F24: =D24+E24 -> 274401.69 | G24: 214079.92 | H24: 214079.92 | I24: 214079.92 | J24: 214079.92 | K24: =F24-H24 -> 60321.77
B25: 2000 | C25: MATERIALES Y SUMINISTROS | D25: =SUM(D17:D24) -> 482850 | E25: =SUM(E17:E24) -> 1063602.4 | F25: =SUM(F17:F24) -> 1546452.4 | G25: =SUM(G17:G24) -> 1391324.7 | H25: =SUM(H17:H24) -> 1391324.7 | I25: =SUM(I17:I24) -> 1391324.7 | J25: =SUM(J17:J24) -> 1391324.7 | K25: =F25-H25 -> 155127.76
B26: 3100 | C26: SERVICIOS BÁSICOS | D26: 577399 | E26: 272963.29 | F26: =D26+E26 -> 850362.29 | G26: 850362.29 | H26: 850362.29 | I26: 850362.29 | J26: 850362.29 | K26: =F26-H26 -> 0
B27: 3200 | C27: SERVICIOS DE ARRENDAMIENTO | D27: 180000 | E27: -48835.02 | F27: =D27+E27 -> 131164.98 | G27: 131164.98 | H27: 131164.98 | I27: 131164.98 | J27: 131164.98 | K27: =F27-H27 -> 0
B28: 3300 | C28: SERVICIOS, PROFESIONALES, CIENTÍFICOS, TÉCNICOS Y | D28: 567000 | E28: 371117.9 | F28: =D28+E28 -> 938117.9 | G28: 938117.9 | H28: 938117.9 | I28: 938117.9 | J28: 938117.9 | K28: =F28-H28 -> 0
B29: 3400 | C29: SERVICIOS FINANCIEROS, BANCARIOS Y COMERCIALES | D29: 30000 | E29: 80061.87 | F29: =D29+E29 -> 110061.87 | G29: 110061.87 | H29: 110061.87 | I29: 110061.87 | J29: 110061.87 | K29: =F29-H29 -> 0
B30: 3500 | C30: SERVICIOS DE INSTALACIÓN, REPARACIÓN, MANTENIMIENT | D30: 1135170 | E30: 692341.37 | F30: =D30+E30 -> 1827511.4 | G30: 1815928.8 | H30: 1815928.8 | I30: 1815928.8 | J30: 1595371.7 | K30: =F30-H30 -> 11582.6
B31: 3600 | C31: SERVICIOS DE COMUNICACIÓN SOCIAL Y PUBLICIDAD | D31: 91500 | E31: 89970.4 | F31: =D31+E31 -> 181470.4 | G31: 181470.4 | H31: 181470.4 | I31: 181470.4 | J31: 181470.4 | K31: =F31-H31 -> 0
B32: 3700 | C32: SERVICIOS DE TRASLADO Y VIÁTICOS | D32: 60750 | E32: 101095.98 | F32: =D32+E32 -> 161845.98 | G32: 160924.18 | H32: 160924.18 | I32: 160924.18 | J32: 160924.18 | K32: =F32-H32 -> 921.8
B33: 3800 | C33: SERVICIOS OFICIALES | D33: 175100 | E33: 100268.79 | F33: =D33+E33 -> 275368.79 | G33: 275368.79 | H33: 275368.79 | I33: 275368.79 | J33: 275368.79 | K33: =F33-H33 -> 0
B34: 3900 | C34: OTROS SERVICIOS GENERALES | D34: 533156 | E34: 273548.49 | F34: =D34+E34 -> 806704.49 | G34: 780168.85 | H34: 780168.85 | I34: 780168.85 | J34: 780168.85 | K34: =F34-H34 -> 26535.64
B35: 3000 | C35: SERVICIOS GENERALES | D35: =SUM(D26:D34) -> 3350075 | E35: =SUM(E26:E34) -> 1932533.1 | F35: =SUM(F26:F34) -> 5282608.1 | G35: =SUM(G26:G34) -> 5243568 | H35: =SUM(H26:H34) -> 5243568 | I35: =SUM(I26:I34) -> 5243568 | J35: =SUM(J26:J34) -> 5023010.9 | K35: =F35-H35 -> 39040.04
B36: 4400 | C36: AYUDAS SOCIALES | D36: 100000 | E36: 131399.77 | F36: =D36+E36 -> 231399.77 | G36: 231399.77 | H36: 231399.77 | I36: 231399.77 | J36: 231399.77 | K36: =F36-H36 -> 0
B37: 4000 | C37: TRANSFERENCIAS, ASIGNACIONES, SUBSIDIOS Y OTRAS AY | D37: =D36 -> 100000 | E37: =E36 -> 131399.77 | F37: =F36 -> 231399.77 | G37: =G36 -> 231399.77 | H37: =H36 -> 231399.77 | I37: =I36 -> 231399.77 | J37: =J36 -> 231399.77 | K37: =F37-H37 -> 0
B38: 5100 | C38: MOBILIARIO Y EQUIPO DE ADMINISTRACIÓN | D38: 327830 | E38: 2380944.4 | F38: =D38+E38 -> 2708774.4 | G38: 753933.76 | H38: 753933.76 | I38: 753933.76 | J38: 753933.76 | K38: =F38-H38 -> 1954840.6
B39: 5200 | C39: MOBILIARIO Y EQUIPO EDUCACIONAL Y RECREATIVO | E39: 119118.71 | F39: =D39+E39 -> 119118.71 | G39: 58511.43 | H39: 58511.43 | I39: 58511.43 | J39: 58511.43 | K39: =F39-H39 -> 60607.28
B40: 5300 | C40: EQUIPO E INSTRUMENTAL MÉDICO Y DE LABORATORIO | E40: 15070 | F40: =D40+E40 -> 15070 | G40: 0 | H40: 0 | I40: 0 | J40: 0 | K40: =F40-H40 -> 15070
B41: 5600 | C41: MAQUINARIA, OTROS EQUIPOS Y HERRAMIENTAS | E41: 1396000 | F41: =D41+E41 -> 1396000 | G41: 1203722.1 | H41: 1203722.1 | I41: 1203722.1 | J41: 1144972.1 | K41: =F41-H41 -> 192277.95
B42: 5900 | C42: ACTIVOS INTANGIBLES | F42: =D42+E42 -> 0 | K42: =F42-H42 -> 0
...

Sheet CAdmon
B2: ESTADO ANALÍTICO DEL EJERCICIO DEL PRESUPUESTO DE EGRESOS
B3: CLASIFICACIÓN ADMINISTRATIVA
B4: =CTG!B3 -> Del 1 de Enero al 31 de Diciembre 2018
C6: Ente Público: | D6: ITESS
B8: Concepto | D8: Egresos | K8: Subejercicio
D9: Aprobado | E9: Ampliaciones/ (Reducciones) | F9: Modificado | G9: Comprometido | H9: Devengado | I9: Ejercido | J9: Pagado
D10: 1 | E10: 2 | F10: 3 = (1 + 2 ) | G10: 4 | H10: 5 | I10: 6 | J10: 7 | K10: 6 = ( 3 - 5 )
C12: Entidades Paraestatales | D12: =COG!D48 -> 20891516 | E12: =COG!E48 -> 20298067 | F12: =COG!F48 -> 41189583 | G12: =COG!G48 -> 38440005 | H12: =COG!H48 -> 38440005 | I12: =COG!I48 -> 38440005 | J12: =COG!J48 -> 37482010 | K12: =COG!K48 -> 2749578.4
D13: 0 | E13: 0 | F13: =+D13+E13 -> 0 | G13: 0 | H13: 0 | I13: 0 | J13: 0 | K13: =+F13-H13 -> 0
D14: 0 | E14: 0 | F14: =+D14+E14 -> 0 | G14: 0 | H14: 0 | I14: 0 | J14: 0 | K14: =+F14-H14 -> 0
D15: 0 | E15: 0 | F15: =+D15+E15 -> 0 | G15: 0 | H15: 0 | I15: 0 | J15: 0 | K15: =+F15-H15 -> 0
D16: 0 | E16: 0 | F16: =+D16+E16 -> 0 | G16: 0 | H16: 0 | I16: 0 | J16: 0 | K16: =+F16-H16 -> 0
D17: 0 | E17: 0 | F17: =+D17+E17 -> 0 | G17: 0 | H17: 0 | I17: 0 | J17: 0 | K17: =+F17-H17 -> 0
D18: 0 | E18: 0 | F18: =+D18+E18 -> 0 | G18: 0 | H18: 0 | I18: 0 | J18: 0 | K18: =+F18-H18 -> 0
D19: 0 | E19: 0 | F19: =+D19+E19 -> 0 | G19: 0 | H19: 0 | I19: 0 | J19: 0 | K19: =+F19-H19 -> 0
D20: 0 | E20: 0 | F20: 0 | G20: 0 | H20: 0 | I20: 0 | J20: 0 | K20: =+F20-H20 -> 0
C22: Total del Gasto | D22: =SUM(D12:D20) -> 20891516 | E22: =SUM(E12:E20) -> 20298067 | F22: =SUM(F12:F20) -> 41189583 | G22: =SUM(G12:G20) -> 38440005 | H22: =SUM(H12:H20) -> 38440005 | I22: =SUM(I12:I20) -> 38440005 | J22: =SUM(J12:J20) -> 37482010 | K22: =SUM(K12:K20) -> 2749578.4
B24: Bajo protesta de decir verdad declaramos que los Estados Financieros y sus Notas son razonablemente correctos y responsabilidad del emisor
C28: Nombre de quien autoriza | F28: Nombre de quien elabora
C29: Cargo de quien autoriza | F29: Cargo de quien elabora

Sheet CFG
B1: ESTADO ANALÍTICO DEL EJERCICIO DEL PRESUPUESTO DE EGRESOS
B2: CLASIFICACIÓN FUNCIONAL (FINALIDAD Y FUNCIÓN)
B3: =CProg!B3 -> Del 1 de Enero al 31 de Diciembre 2018
C5: Ente Público: | D5: NOMBRE DE LA ENTIDAD
B7: Concepto | D7: Egresos | K7: Subejercicio
D8: Aprobado | E8: Ampliaciones/ (Reducciones) | F8: Modificado | G8: Comprometido | H8: Devengado | I8: Ejercido | J8: Pagado
D9: 1 | E9: 2 | F9: 3 = (1 + 2 ) | G9: 4 | H9: 5 | I9: 6 | J9: 7 | K9: 6 = ( 3 - 5 )
B11: Gobierno | D11: =SUM(D12:D20) -> 0 | E11: =SUM(E12:E20) -> 0 | F11: =SUM(F12:F20) -> 0 | G11: =SUM(G12:G20) -> 0 | H11: =SUM(H12:H20) -> 0 | I11: =SUM(I12:I20) -> 0 | J11: =SUM(J12:J20) -> 0 | K11: =SUM(K12:K20) -> 0
C12: Legislación | K12: =+F12-H12 -> 0
C13: Justicia | F13: =+D13+E13 -> 0 | K13: =+F13-H13 -> 0
C14: Coordinación de la Política de Gobierno | F14: =+D14+E14 -> 0 | K14: =+F14-H14 -> 0
C15: Relaciones Exteriores | F15: =+D15+E15 -> 0 | K15: =+F15-H15 -> 0
C16: Asuntos Financieros y Hacendarios | F16: =+D16+E16 -> 0 | K16: =+F16-H16 -> 0
C17: Seguridad Nacional | F17: =+D17+E17 -> 0 | K17: =+F17-H17 -> 0
C18: Asuntos de Orden Público y de Seguridad Interior | F18: =+D18+E18 -> 0 | K18: =+F18-H18 -> 0
C19: Otros Servicios Generales | F19: =+D19+E19 -> 0 | K19: =+F19-H19 -> 0
F20: =+D20+E20 -> 0
B21: Desarrollo Social | D21: =D26 -> 20891516 | E21: =E26 -> 20298067 | F21: =+D21+E21 -> 41189583 | G21: =G26 -> 38440005 | H21: =H26 -> 38440005 | I21: =I26 -> 38440005 | J21: =J26 -> 37482010 | K21: =F21-H21 -> 2749578.4
C22: Protección Ambiental | F22: =+D22+E22 -> 0 | K22: =F22-H22 -> 0
C23: Vivienda y Servicios a la Comunidad | F23: =+D23+E23 -> 0 | K23: =F23-H23 -> 0
C24: Salud | F24: =+D24+E24 -> 0 | K24: =F24-H24 -> 0
C25: Recreación, Cultura y Otras Manifestaciones Sociales | F25: =+D25+E25 -> 0 | K25: =F25-H25 -> 0
C26: Educación | D26: =COG!D48 -> 20891516 | E26: =COG!E48 -> 20298067 | F26: =+D26+E26 -> 41189583 | G26: =COG!G48 -> 38440005 | H26: =COG!H48 -> 38440005 | I26: =COG!I48 -> 38440005 | J26: =COG!J48 -> 37482010 | K26: =F26-H26 -> 2749578.4
C27: Protección Social | F27: =+D27+E27 -> 0 | K27: =+F27-H27 -> 0
C28: Otros Asuntos Sociales | F28: =+D28+E28 -> 0 | K28: =+F28-H28 -> 0
F29: =+D29+E29 -> 0
B30: Desarrollo Económico | D30: =SUM(D31:D39) -> 0 | E30: =SUM(E31:E39) -> 0 | F30: =+D30+E30 -> 0 | H30: =SUM(H31:H39) -> 0 | J30: =SUM(J31:J39) -> 0 | K30: =+F30-H30-J30 -> 0
C31: Asuntos Económicos, Comerciales y Laborales en General | F31: =+D31+E31 -> 0 | K31: =+F31-H31 -> 0
C32: Agropecuaria, Silvicultura, Pesca y Caza | E32: =660673.36-660673.36 -> 0 | F32: =+D32+E32 -> 0 | K32: =+F32-H32-J32 -> 0
C33: Combustibles y Energía | F33: =+D33+E33 -> 0 | K33: =+F33-H33 -> 0
C34: Minería, Manufacturas y Construcción | F34: =+D34+E34 -> 0 | K34: =+F34-H34 -> 0
C35: Transporte | F35: =+D35+E35 -> 0 | K35: =+F35-H35 -> 0
C36: Comunicaciones | F36: =+D36+E36 -> 0 | K36: =+F36-H36 -> 0
C37: Turismo | F37: =+D37+E37 -> 0 | K37: =+F37-H37 -> 0
C38: Ciencia, Tecnología e Innovación | F38: =+D38+E38 -> 0 | K38: =+F38-H38 -> 0
C39: Otras Industrias y Otros Asuntos Económicos | F39: =+D39+E39 -> 0 | K39: =+F39-H39 -> 0
B41: Otras no Clasificadas en Funciones Anteriores | D41: =SUM(D42:D45) -> 0 | E41: =SUM(E42:E45) -> 0 | F41: =+D41+E41 -> 0 | H41: =SUM(H42:H45) -> 0 | J41: =SUM(J42:J45) -> 0 | K41: =+F41-H41 -> 0
C42: Transacciones de la Deuda Publica / Costo Financiero de la Deuda | F42: =+D42+E42 -> 0 | K42: =+F42-H42 -> 0
C43: Transferencias, Participaciones y Aportaciones entre Diferentes Niveles y Ordenes de Gobierno | F43: =+D43+E43 -> 0 | K43: =+F43-H43 -> 0
C44: Saneamiento del Sistema Financiero | F44: =+D44+E44 -> 0 | K44: =+F44-H44 -> 0
...

Sheet CProg
B2: GASTO POR CATEGORIA PROGRAMÁTICA
B3: =PyPI!B3 -> Del 1 de Enero al 31 de Diciembre 2018
D5: Ente Público: | E5: ITESS
B7: Concepto | E7: Egresos | L7: Subejercicio
E8: Aprobado | F8: Ampliaciones/ (Reducciones) | G8: Modificado | H8: Comprometido | I8: Devengado | J8: Ejercido | K8: Pagado
E9: 1 | F9: 2 | G9: 3 = (1 + 2 ) | H9: 4 | I9: 5 | J9: 6 | K9: 7 | L9: 6 = ( 3 - 5 )
B10: Programas
C11: Subsidios: Sector Social y Privado o Entidades Federativas y Municipios | E11: =SUM(E12:E13) -> 0 | F11: =SUM(F12:F13) -> 0 | G11: =SUM(G12:G13) -> 0 | H11: =SUM(H12:H13) -> 0 | I11: =SUM(I12:I13) -> 0 | J11: =SUM(J12:J13) -> 0 | K11: =SUM(K12:K13) -> 0 | L11: =SUM(L12:L13) -> 0
D12: Sujetos a Reglas de Operación | G12: =+E12+F12 -> 0 | L12: =+G12-I12 -> 0
D13: Otros Subsidios | G13: =+E13+F13 -> 0 | L13: =+G13-I13 -> 0
C14: Desempeño de las Funciones | E14: =SUM(E15:E22) -> 19922334 | F14: =SUM(F15:F22) -> 19520401 | G14: =+E14+F14 -> 39442735 | H14: =H15+H17 -> 0 | I14: =I15+I17 -> 36693157 | J14: =J15+J17 -> 35760739 | K14: =K15+K17 -> 35760739 | L14: =+G14-I14 -> 2749578.4
D15: Prestación de Servicios Públicos | E15: 15003960 | F15: 15451504 | G15: =+E15+F15 -> 30455464 | I15: 29024778 | J15: 28233388 | K15: 28233388 | L15: =+G15-I15 -> 1430686.1
D16: Provisión de Bienes Públicos | E16: 0 | F16: 0 | G16: =+E16+F16 -> 0 | I16: 0 | J16: 0 | K16: 0 | L16: =+G16-I16 -> 0
D17: Planeación, seguimiento y evaluación de políticas públicas | E17: 4918374.3 | F17: 4068897 | G17: =+E17+F17 -> 8987271.3 | I17: 7668378.9 | J17: 7527350.7 | K17: 7527350.7 | L17: =+G17-I17 -> 1318892.3
D18: Promoción y fomento | G18: =+E18+F18 -> 0 | L18: =+G18-I18 -> 0
D19: Regulación y supervisión | G19: =+E19+F19 -> 0 | L19: =+G19-I19 -> 0
D20: Funciones de las Fuerzas Armadas (Únicamente Gobierno Federal) | G20: =+E20+F20 -> 0 | L20: =+G20-I20 -> 0
D21: Específicos | G21: =+E21+F21 -> 0 | L21: =+G21-I21 -> 0
D22: Proyectos de Inversión | G22: =+E22+F22 -> 0 | L22: =+G22-I22 -> 0
C23: Administrativos y de Apoyo | E23: =SUM(E24:E26) -> 969181.55 | F23: =SUM(F24:F26) -> 777666.37 | G23: =+E23+F23 -> 1746847.9 | H23: =H24 -> 0 | I23: =I24 -> 1746847.9 | J23: =J24 -> 1721271.7 | K23: =K24 -> 1721271.7 | L23: =+G23-I23 -> 0
D24: Apoyo al proceso presupuestario y para mejorar la eficiencia institucional | E24: 969181.55 | F24: 777666.37 | G24: =+E24+F24 -> 1746847.9 | I24: 1746847.9 | J24: 1721271.7 | K24: 1721271.7 | L24: =+G24-I24 -> 0
D25: Apoyo a la función pública y al mejoramiento de la gestión | G25: =+E25+F25 -> 0 | L25: =+G25-I25 -> 0
D26: Operaciones ajenas | G26: =+E26+F26 -> 0 | L26: =+G26-I26 -> 0
C27: Compromisos | E27: =SUM(E28:E29) -> 0 | G27: =+E27+F27 -> 0 | L27: =+G27-I27 -> 0
D28: Obligaciones de cumplimiento de resolución jurisdiccional | G28: =+E28+F28 -> 0 | L28: =+G28-I28 -> 0
D29: Desastres Naturales | G29: =+E29+F29 -> 0 | L29: =+G29-I29 -> 0
C30: Obligaciones | E30: =SUM(E31:E34) -> 0 | G30: =+E30+F30 -> 0 | L30: =+G30-I30 -> 0
D31: Pensiones y jubilaciones | G31: =+E31+F31 -> 0 | L31: =+G31-I31 -> 0
D32: Aportaciones a la seguridad social | G32: =+E32+F32 -> 0 | L32: =+G32-I32 -> 0
D33: Aportaciones a fondos de estabilización | G33: =+E33+F33 -> 0 | L33: =+G33-I33 -> 0
D34: Aportaciones a fondos de inversión y reestructura de pensiones | G34: =+E34+F34 -> 0 | L34: =+G34-I34 -> 0
C35: Programas de Gasto Federalizado (Gobierno Federal) | E35: =SUM(E36) -> 0 | G35: =+E35+F35 -> 0 | L35: =+G35-I35 -> 0
D36: Gasto Federalizado | G36: =+E36+F36 -> 0 | L36: =+G36-I36 -> 0
B37: Participaciones a entidades federativas y municipios | G37: =+E37+F37 -> 0 | L37: =+G37-I37 -> 0
B38: Costo financiero, deuda o apoyos a deudores y ahorradores de la banca | G38: =+E38+F38 -> 0 | L38: =+G38-I38 -> 0
B39: Adeudos de ejercicios fiscales anteriores | G39: =+E39+F39 -> 0 | L39: =+G39-I39 -> 0
C41: Total del Gasto | E41: =+E11+E14+E23+E27+E30+E35+E37+E38+E39 -> 20891516 | F41: =+F11+F14+F23+F27+F30+F35+F37+F38+F39 -> 20298067 | G41: =+G11+G14+G23+G27+G30+G35+G37+G38+G39 -> 41189583 | H41: =+H11+H14+H23+H27+H30+H35+H37+H38+H39 -> 0 | I41: =+I11+I14+I23+I27+I30+I35+I37+I38+I39 -> 38440005 | J41: =+J11+J14+J23+J27+J30+J35+J37+J38+J39 -> 37482010 | K41: =+K11+K14+K23+K27+K30+K35+K37+K38+K39 -> 37482010 | L41: =+L11+L14+L23+L27+L30+L35+L37+L38+L39 -> 2749578.4
B43: Bajo protesta de decir verdad declaramos que los Estados Financieros y sus Notas son razonablemente correctos y responsabilidad del emisor
D47: Nombre de quien autoriza | G47: Nombre de quien elabora
D48: Cargo de quien autoriza | G48: Cargo de quien elabora

Sheet PyPI
B2: PROGRAMAS Y PROYECTOS DE INVERSIÓN
B3: =IR!B3 -> Del 1 de Enero al 31 de Diciembre 2018
D5: Ente Público: | E5: NOMBRE DE LA ENTIDAD
B7: Tipo de Programas y Proyectos | E7: Programa o Proyecto | G7: UR | H7: Egresos | O7: Subejercicio | P7: % Avance Financiero
F8: Denominación | H8: Aprobado | I8: Ampliaciones/ (Reducciones) | J8: Modificado | K8: Comprometido | L8: Devengado | M8: Ejercido | N8: Pagado | P8: Devengado/ Aprobado | Q8: Devengado/ Modificado
H9: 1 | I9: 2 | J9: 3 = (1 + 2 ) | K9: 4 | L9: 5 | M9: 6 | N9: 7 | O9: 6 = ( 3 - 5 ) | P9: 5/1 | Q9: 5/3
H10: =SUM(H11:H20) -> 0 | I10: 601822.68 | J10: 601822.68 | K10: 407345.88 | L10: 407345.88 | M10: 407345.88 | N10: 407345.88 | O10: 194476.8 | P10: =SUM(#REF!) -> #REF! | Q10: =+L10/J10 -> 0.67685365
C11: Ampliación del servicio de voz y datos en las instalaciones del Itess | E11: Q0289 | F11: Infraestructura del Instituto Tecnológico de Salvatierra | G11: 3044 | H11: 0 | I11: 123772 | J11: 123772 | K11: 123772 | L11: 123772 | M11: 123772 | N11: 123772 | O11: =J11-L11 -> 0 | P11: =L11/H11 -> #DIV/0! | Q11: =+L11/J11 -> 1
B12: Equipamiento de electrónica y comunicaciones | E12: Q0289 | F12: Infraestructura del Instituto Tecnológico de Salvatierra | G12: 3044 | I12: 175783.34 | J12: 175783.34 | K12: 42003.4 | L12: 42003.4 | M12: 42003.4 | N12: 42003.4 | O12: =J12-L12 -> 133779.94 | P12: =L12/H12 -> #DIV/0! | Q12: =+L12/J12 -> 0.23894983
B13: Equipamiento del laboratorio de manufactura | E13: Q0289 | F13: Infraestructura del Instituto Tecnológico de Salvatierra | G13: 3044 | I13: 296095.76 | J13: 296095.76 | K13: =51648+184440 -> 236088 | L13: =51648+184440 -> 236088 | M13: =51648+184440 -> 236088 | N13: =51648+184440 -> 236088 | O13: =J13-L13 -> 60007.76 | P13: =L13/H13 -> #DIV/0! | Q13: =+L13/J13 -> 0.79733665
B14: Equipamiento de un Laboratorio de Simulación de Negocios | E14: Q0289 | F14: Infraestructura del Instituto Tecnológico de Salvatierra | G14: 3044 | I14: 6171.58 | J14: 6171.58 | K14: 5482.48 | L14: 5482.48 | M14: 5482.48 | N14: 5482.48 | O14: =J14-L14 -> 689.1
C21: Total del Gasto | E21: 0 | F21: =SUM(F11:F20) -> 0 | G21: 0 | H21: =SUM(H11:H20) -> 0 | I21: =SUM(I11:I14) -> 601822.68 | J21: =SUM(J11:J14) -> 601822.68 | K21: =SUM(K11:K14) -> 407345.88 | L21: =SUM(L11:L14) -> 407345.88 | M21: =SUM(M11:M14) -> 407345.88 | N21: =SUM(N11:N14) -> 407345.88 | O21: =SUM(O11:O14) -> 194476.8 | Q21: =+L21/J21 -> 0.67685365
D25: Nombre de quien autoriza | H25: Nombre de quien elabora
D26: Cargo de quien autoriza | H26: Cargo de quien elabora

Sheet IR
B1: INDICADORES PARA RESULTADOS
B3: Del 1 de Enero al 31 de Diciembre 2018
D5: Ente Público: | E5: INSTITUTO TECNOLOGICO SUPERIOR DE SALVATIERRA
B7: PROGRAMA DE GOBIERNO | D7: CATEGORÍA PROGRAMÁTICA | I7: INDICADORES | P7: METAS | U7: PRESUPUESTO (PESOS)
B8: Eje | C8: Estrategia Transversal | D8: F | E8: FN | F8: SF | G8: PP | H8: UR | I8: Denominación del Indicador | J8: Nivel | K8: Tipo | L8: Dimensión a Medir | M8: Frecuencia de Medición | N8: Unidad de Medida | O8: Fórmula | P8: Programada | Q8: Modificada | R8: Alcanzada | S8: Porcentaje de Cumplimiento | U8: Aprobado | V8: Modificado | W8: Devengado | X8: Porcentaje de Presupuesto
S9: Alc. / Prog. | T9: Alc. / Modif. | X9: Dev. / Aprob. | Y9: Dev. / Modif.
B10: GUANAJUATO EDUCADO | C10: IMPULSO A LA EDUCACION PARA LA VIDA | D10: 02 | E10: 05 | F10: 03 | G10: G1072.0401 | H10: 3044 | I10: Porcentaje de usuarios satisfechos con el servicio proporcionado por el área de servicios y suministros. | J10: NA | K10: GESTIÓN | L10: EFICIENCIA | M10: ANUAL | N10: PORCENTAJE | O10: SATISFACCIÓN DE SERVICIOS/SERVICIOS PRESTADOS | P10: 90 | Q10: 90 | R10: 85 | S10: =R10/P10 -> 0.94444444 | T10: =R10/Q10 -> 0.94444444 | U10: 423273.32 | V10: 829596.74 | W10: 829596.74 | X10: =W10/U10 -> 1.9599552 | Y10: =W10/V10 -> 1
B11: GUANAJUATO EDUCADO | C11: IMPULSO A LA EDUCACION PARA LA VIDA | D11: 02 | E11: 05 | F11: 03 | G11: G1072.0401 | H11: 3044 | I11: Solicitudes de ajustes presupuestales efectuadas. | J11: NA | K11: GESTIÓN | L11: EFICIENCIA | M11: ANUAL | N11: SOLICITUDES | O11: SUMATORIA DE SOLICITUDES | P11: 12 | Q11: 12 | R11: 12 | S11: =R11/P11 -> 1 | T11: =R11/Q11 -> 1 | U11: 423273.32 | V11: 829596.74 | W11: 829596.74 | X11: =W11/U11 -> 1.9599552 | Y11: =W11/V11 -> 1
B12: GUANAJUATO EDUCADO | C12: IMPULSO A LA EDUCACION PARA LA VIDA | D12: 02 | E12: 05 | F12: 03 | G12: G1072.0401 | H12: 3044 | I12: Presupuesto ejercido respecto al modificado. | J12: NA | K12: GESTIÓN | L12: EFICIENCIA | M12: ANUAL | N12: PRESUPUESTO | O12: PORCENTAJE DE PRESUPUESTO EJERCUIDO SOBRE MODIFICADO | P12: 95 | Q12: 95 | R12: 93 | S12: =R12/P12 -> 0.97894737 | T12: =R12/Q12 -> 0.97894737 | U12: 423273.32 | V12: 829596.74 | W12: 829596.74 | X12: =W12/U12 -> 1.9599552 | Y12: =W12/V12 -> 1
B13: GUANAJUATO EDUCADO | C13: IMPULSO A LA EDUCACION PARA LA VIDA | D13: 02 | E13: 05 | F13: 03 | G13: G1131.0301 | H13: 3044 | I13: Estrategias implementadas para la mejora institucional. | J13: NA | K13: GESTIÓN | L13: EFICIENCIA | M13: ANUAL | N13: ESTRATEGIAS | O13: SUMATORIA DE ESTRATAEGIAS | P13: 4 | Q13: 4 | R13: 4 | S13: =R13/P13 -> 1 | T13: =R13/Q13 -> 1 | U13: 941758.65 | V13: 1789634.2 | W13: 1130188.1 | X13: =W13/U13 -> 1.2000825 | Y13: =W13/V13 -> 0.63151902
B14: GUANAJUATO EDUCADO | C14: IMPULSO A LA EDUCACION PARA LA VIDA | D14: 02 | E14: 05 | F14: 03 | G14: G1131.0301 | H14: 3044 | I14: Porcentaje de metas alineadas a los programas estatales y federales | J14: NA | K14: GESTIÓN | L14: EFICIENCIA | M14: ANUAL | N14: PROGRAMAS | O14: SUMATORIA DE PROCESOS | P14: 100 | Q14: 100 | R14: 100 | S14: =R14/P14 -> 1 | T14: =R14/Q14 -> 1 | U14: 941758.65 | V14: 1789634.2 | W14: 1130188.1 | X14: =W14/U14 -> 1.2000825 | Y14: =W14/V14 -> 0.63151903
B15: GUANAJUATO EDUCADO | C15: IMPULSO A LA EDUCACION PARA LA VIDA | D15: 02 | E15: 05 | F15: 03 | G15: G2059 | H15: 3044 | I15: Porcentaje de avances en metas y entregables capturados en tiempo y forma en el sistema de evaluación al desempeño –SED. | J15: NA | K15: GESTIÓN | L15: EFICIENCIA | M15: ANUAL | N15: PORCENTAJE | O15: PORCENTAJE DE AVANCE DE METAS | P15: 100 | Q15: 100 | R15: 136 | S15: =R15/P15 -> 1.36 | T15: =R15/Q15 -> 1.36 | U15: 323060.52 | V15: 582282.64 | W15: 582282.64 | X15: =W15/U15 -> 1.8023949 | Y15: =W15/V15 -> 1
B16: GUANAJUATO EDUCADO | C16: IMPULSO A LA EDUCACION PARA LA VIDA | D16: 02 | E16: 05 | F16: 03 | G16: G2059 | H16: 3044 | I16: Reporte sobre las principales estrategias implementadas en el instituto para el cumplimiento de metas. | J16: NA | K16: GESTIÓN | L16: EFICIENCIA | M16: ANUAL | N16: REPORTES | O16: SUMATORIA DE REPORTES | P16: 4 | Q16: 4 | R16: 4 | S16: =R16/P16 -> 1 | T16: =R16/Q16 -> 1 | U16: 323060.52 | V16: 582282.64 | W16: 582282.64 | X16: =W16/U16 -> 1.8023949 | Y16: =W16/V16 -> 1
B17: GUANAJUATO EDUCADO | C17: IMPULSO A LA EDUCACION PARA LA VIDA | D17: 02 | E17: 05 | F17: 03 | G17: G2059 | H17: 3044 | I17: Porcentaje de avance global de los indicadores que son responsabilidad de la institución. | J17: NA | K17: GESTIÓN | L17: EFICIENCIA | M17: ANUAL | N17: PORCENTAJE | O17: PORCENTAJE DE AVANCE EN INDICADORES | P17: 90 | Q17: 90 | R17: 90 | S17: =R17/P17 -> 1 | T17: =R17/Q17 -> 1 | U17: 323060.52 | V17: 582282.64 | W17: 582282.64 | X17: =W17/U17 -> 1.8023949 | Y17: =W17/V17 -> 1
B18: GUANAJUATO EDUCADO | C18: IMPULSO A LA EDUCACION PARA LA VIDA | D18: 02 | E18: 05 | F18: 03 | G18: P0728 | H18: 3044 | I18: Especialidades ofertadas con reconocimiento del Tecnológico Nacional de México | J18: c1. Servicios de vinculación con el entorno fortalecidos (servicio social, estadías, seguimiento a egresados) (ii.2.4). | K18: ESTRATÉGICO | L18: EFICIENCIA | M18: ANUAL | N18: EXPEDIENTE | O18: SUMATORIA DE EXPEDIENTES | P18: 4 | Q18: 4 | R18: 4 | S18: =R18/P18 -> 1 | T18: =R18/Q18 -> 1 | U18: 441990.73 | V18: 819727.76 | W18: 819727.76 | X18: =W18/U18 -> 1.8546266 | Y18: =W18/V18 -> 1
B19: GUANAJUATO EDUCADO | C19: IMPULSO A LA EDUCACION PARA LA VIDA | D19: 02 | E19: 05 | F19: 03 | G19: P0729 | H19: 3044 | I19: Licenciaturas ofertadas con reconocimiento del Tecnológico Nacional de México | J19: C1. Servicios educativos ofertados. | K19: ESTRATÉGICO | L19: EFICIENCIA | M19: ANUAL | N19: EXPEDIENTE | O19: SUMATORIA DE EXPEDIENTES | P19: 5 | Q19: 5 | R19: 5 | S19: =R19/P19 -> 1 | T19: =R19/Q19 -> 1 | U19: 5509393.1 | V19: 10786098 | W19: 10364558 | X19: =W19/U19 -> 1.8812523 | Y19: =W19/V19 -> 0.96091825
B20: GUANAJUATO EDUCADO | C20: IMPULSO A LA EDUCACION PARA LA VIDA | D20: 02 | E20: 05 | F20: 03 | G20: P0729 | H20: 3044 | I20: Asignaturas ofertadas en línea . | J20: C1. Servicios educativos ofertados. | K20: ESTRATÉGICO | L20: EFICIENCIA | M20: ANUAL | N20: EXPEDIENTE | O20: SUMATORIA DE EXPEDIENTES | P20: 10 | Q20: 10 | R20: 10 | S20: =R20/P20 -> 1 | T20: =R20/Q20 -> 1 | U20: 5509393.1 | V20: 10786098 | W20: 10364558 | X20: =W20/U20 -> 1.8812523 | Y20: =W20/V20 -> 0.96091825
B21: GUANAJUATO EDUCADO | C21: IMPULSO A LA EDUCACION PARA LA VIDA | D21: 02 | E21: 05 | F21: 03 | G21: P0730 | H21: 3044 | I21: Evaluación técnica de atención a los estudiantes (académicos, riesgo de reprobación, deserción y reprobación) realizada | J21: c4. Apoyo académico y/o psicosocial a alumnos en riesgo de deserción o reprobación otorgados (ii.1.6). | K21: ESTRATÉGICO | L21: EFICIENCIA | M21: ANUAL | N21: EXPEDIENTE | O21: SUMATORIA DE EXPEDIENTES | P21: 2 | Q21: 2 | R21: 2 | S21: =R21/P21 -> 1 | T21: =R21/Q21 -> 1 | U21: 78136.555 | V21: 148527.66 | W21: 148527.66 | X21: =W21/U21 -> 1.9008729 | Y21: =W21/V21 -> 1
... B44: GUANAJUATO EDUCADO | C44: IMPULSO A LA EDUCACION PARA LA VIDA | D44: 02 | E44: 05 | F44: 03 | G44: P2802 | H44: 3044 | I44: Empresas vinculadas con el Programa de Formación Dual | J44: INSERCIÓN LABORAL ) J. Programas de formación dual escuela-empresa ofertados en Educación Superior (II.2.6). ITESS | K44: ESTRATÉGICO | L44: EFICIENCIA | M44: ANUAL | N44: EXPEDIENTE | O44: SUMATORIA DE EMPRESAS | P44: 10 | Q44: 10 | R44: 5 | S44: =R44/P44 -> 0.5 | T44: =R44/Q44 -> 0.5 | U44: 247842.41 | V44: 1270494.7 | W44: 1086503.1 | X44: =W44/U44 -> 4.3838467 | Y44: =W44/V44 -> 0.85518117
B45: GUANAJUATO EDUCADO | C45: IMPULSO A LA EDUCACION PARA LA VIDA | D45: 02 | E45: 05 | F45: 03 | G45: Q0289 | H45: 3044 | I45: Ampliación del servicio de voz y datos en las instalaciones del Itess | J45: c1. Servicios de vinculación con el entorno fortalecidos (servicio social, estadías, seguimiento a egresados) (ii.2.4). | K45: ESTRATÉGICO | L45: EFICIENCIA | M45: ANUAL | N45: Equipamiento | O45: Sumatoria de equipamientos | P45: 0 | Q45: 1 | R45: 1 | S45: #DIV/0! | T45: =R45/Q45 -> 1 | U45: 0 | V45: 123772 | W45: 123772 | X45: =W45/U45 -> #DIV/0! | Y45: =W45/V45 -> 1
B46: GUANAJUATO EDUCADO | C46: IMPULSO A LA EDUCACION PARA LA VIDA | D46: 02 | E46: 05 | F46: 03 | G46: Q0289 | H46: 3044 | I46: Equipamiento de electrónica y comunicaciones | J46: c1. Servicios de vinculación con el entorno fortalecidos (servicio social, estadías, seguimiento a egresados) (ii.2.4). | K46: ESTRATÉGICO | L46: EFICIENCIA | M46: ANUAL | N46: Equipamiento | O46: Sumatoria de equipamientos | P46: 0 | Q46: 1 | R46: 0.25 | S46: #DIV/0! | T46: =R46/Q46 -> 0.25 | U46: 0 | V46: 175783.34 | W46: 42003.4 | X46: =W46/U46 -> #DIV/0! | Y46: =W46/V46 -> 0.23894983
B47: GUANAJUATO EDUCADO | C47: IMPULSO A LA EDUCACION PARA LA VIDA | D47: 02 | E47: 05 | F47: 03 | G47: Q0289 | H47: 3044 | I47: Equipamiento del laboratorio de manufactura | J47: c1. Servicios de vinculación con el entorno fortalecidos (servicio social, estadías, seguimiento a egresados) (ii.2.4). | K47: ESTRATÉGICO | L47: EFICIENCIA | M47: ANUAL | N47: Equipamiento | O47: Sumatoria de equipamientos | P47: 0 | Q47: 1 | R47: 1 | S47: #DIV/0! | T47: =R47/Q47 -> 1 | U47: 0 | V47: 296095.76 | W47: =51648+184440 -> 236088 | X47: =W47/U47 -> #DIV/0! | Y47: =W47/V47 -> 0.79733665
B48: GUANAJUATO EDUCADO | C48: IMPULSO A LA EDUCACION PARA LA VIDA | D48: 02 | E48: 05 | F48: 03 | G48: Q0289 | H48: 3044 | I48: Equipamiento de un Laboratorio de Simulación de Negocios | J48: c1. Servicios de vinculación con el entorno fortalecidos (servicio social, estadías, seguimiento a egresados) (ii.2.4). | K48: ESTRATÉGICO | L48: EFICIENCIA | M48: ANUAL | N48: Equipamiento | O48: Sumatoria de equipamientos | P48: 0 | Q48: 1 | R48: 1 | S48: #DIV/0! | T48: =R48/Q48 -> 1 | V48: 6171.58 | W48: 5482.48 | X48: =W48/U48 -> #DIV/0! | Y48: =W48/V48 -> 0.88834302
N49: =SUM(N10:N42) -> 0 | O49: =SUM(O10:O42) -> 0 | P49: =SUM(P10:P45) -> 2965 | Q49: =SUM(Q10:Q45) -> 2966 | R49: =SUM(R10:R48) -> 2903.25 | S49: =R49/P49 -> 0.97917369 | T49: =R49/Q49 -> 0.97884356 | U49: =SUM(U10:U48) -> 20891516 | V49: =SUM(V10:V48) -> 41189583 | W49: =SUM(W10:W48) -> 38440005 | X49: =W49/U49 -> 1.8399816 | Y49: =W49/V49 -> 0.93324578
